BEGIN:VCALENDAR
VERSION:2.0
PRODID:-//Tukios.com/
BEGIN:VEVENT
UID:d7619bf4-517c-464d-8688-cee9edcba97c@www.wozneykillianfh.com
DTSTAMP:20260423T191718Z
DTSTART:20260428T003000Z
DTEND:20260428T004500Z
SUMMARY:Rosary
DESCRIPTION:
URL:https://www.wozneykillianfh.com/obituaries/leo-bork
LOCATION: 35900 Lee St  Whitehall WI 54773
GEO:44.3626331;-91.3081058
END:VEVENT
END:VCALENDAR