BEGIN:VCALENDAR
VERSION:2.0
PRODID:-//Tukios.com/
BEGIN:VEVENT
UID:8480b150-ce45-4baf-9802-7ca5ee0aad13@www.wozneykillianfh.com
DTSTAMP:20260423T191551Z
DTSTART:20260428T000000Z
DTEND:20260428T003000Z
SUMMARY:Prayer Service
DESCRIPTION:
URL:https://www.wozneykillianfh.com/obituaries/leo-bork
LOCATION: 35900 Lee St  Whitehall WI 54773
GEO:44.3626331;-91.3081058
END:VEVENT
END:VCALENDAR