BEGIN:VCALENDAR
VERSION:2.0
PRODID:-//Tukios.com/
BEGIN:VEVENT
UID:a3a83596-968c-473a-9124-281e7c48d94b@www.wozneykillianfh.com
DTSTAMP:20260423T191253Z
DTSTART:20260428T160000Z
DTEND:20260428T170000Z
SUMMARY:Mass
DESCRIPTION:
URL:https://www.wozneykillianfh.com/obituaries/leo-bork
LOCATION: 35900 Lee St  Whitehall WI 54773
GEO:44.3626331;-91.3081058
END:VEVENT
END:VCALENDAR