BEGIN:VCALENDAR
VERSION:2.0
PRODID:-//Tukios.com/
BEGIN:VEVENT
UID:b45c61aa-3a7a-4f45-bae1-01ea1116c9ac@www.wozneykillianfh.com
DTSTAMP:20260423T191718Z
DTSTART:20260427T210000Z
DTEND:20260428T000000Z
SUMMARY:Visitation
DESCRIPTION:
URL:https://www.wozneykillianfh.com/obituaries/leo-bork
LOCATION:St John the Apostle Catholic Church 35900 Lee St  Whitehall WI 
	54773
GEO:44.3626331;-91.3081058
END:VEVENT
END:VCALENDAR