BEGIN:VCALENDAR
VERSION:2.0
PRODID:-//Tukios.com/
BEGIN:VEVENT
UID:2bd1f84c-93ab-44d7-a1aa-19ce1d03be30@www.wozneykillianfh.com
DTSTAMP:20260421T190422Z
DTSTART:20260502T000000Z
DTEND:20260502T003000Z
SUMMARY:Prayer Service
DESCRIPTION:
URL:https://www.wozneykillianfh.com/obituaries/joseph-konkel
LOCATION: 1378 E Wilson Ave  Arcadia WI 54612
GEO:44.2474362;-91.4796183
END:VEVENT
END:VCALENDAR