BEGIN:VCALENDAR
VERSION:2.0
PRODID:-//Tukios.com/
BEGIN:VEVENT
UID:54a9eab7-2500-4c91-9c8c-68d0a40bae75@www.wozneykillianfh.com
DTSTAMP:20260421T191102Z
DTSTART:20260501T200000Z
DTEND:20260502T000000Z
SUMMARY:Visitation
DESCRIPTION:
URL:https://www.wozneykillianfh.com/obituaries/joseph-konkel
LOCATION: 1378 E Wilson Ave  Arcadia WI 54612
GEO:44.2474362;-91.4796183
END:VEVENT
END:VCALENDAR