BEGIN:VCALENDAR
VERSION:2.0
PRODID:-//Tukios.com/
BEGIN:VEVENT
UID:73042d02-0f3e-4122-906b-6086a2876c2d@www.wozneykillianfh.com
DTSTAMP:20260424T232634Z
DTSTART:20260429T140000Z
DTEND:20260429T160000Z
SUMMARY:Visitation
DESCRIPTION:
URL:https://www.wozneykillianfh.com/obituaries/david-schank
LOCATION:Saints Peter and Paul Catholic Church 36028 Osseo Road  
	Independence WI 54747
GEO:44.3642213;-91.4221656
END:VEVENT
END:VCALENDAR