BEGIN:VCALENDAR
VERSION:2.0
PRODID:-//Tukios.com/
BEGIN:VEVENT
UID:e8467fe5-e60a-497f-bf31-28dd1148751b@www.wozneykillianfh.com
DTSTAMP:20260424T232807Z
DTSTART:20260429T160000Z
DTEND:20260429T170000Z
SUMMARY:Mass
DESCRIPTION:
URL:https://www.wozneykillianfh.com/obituaries/david-schank
LOCATION:Saints Peter and Paul Catholic Church 36028 Osseo Road  
	Independence WI 54747
GEO:44.3642213;-91.4221656
END:VEVENT
END:VCALENDAR