BEGIN:VCALENDAR
VERSION:2.0
PRODID:-//Tukios.com/
BEGIN:VEVENT
UID:879ed8a7-682a-4807-a3e2-a5729ade3b8b@www.wozneykillianfh.com
DTSTAMP:20260424T233113Z
DTSTART:20260429T171500Z
DTEND:20260429T173000Z
SUMMARY:Graveside Service
DESCRIPTION:
URL:https://www.wozneykillianfh.com/obituaries/david-schank
LOCATION:Calvary Cemetery  County Road J  Arcadia WI 54612
GEO:44.2460209;-91.4991128
END:VEVENT
END:VCALENDAR