BEGIN:VCALENDAR
VERSION:2.0
PRODID:-//Tukios.com/
BEGIN:VEVENT
UID:a2a2517c-f3d0-47f6-93d8-1d1066599f5f@www.wozneykillianfh.com
DTSTAMP:20260424T232634Z
DTSTART:20260429T174500Z
DTEND:20260429T220000Z
SUMMARY:Celebration of Life
DESCRIPTION:
URL:https://www.wozneykillianfh.com/obituaries/david-schank
LOCATION:Arcadia Country Club 265 Golf Lane  Arcadia WI 54612
GEO:44.2525836;-91.4802617
END:VEVENT
END:VCALENDAR